BEGIN:VCALENDAR
VERSION:2.0
PRODID:-//The Texas Pool - ECPv6.15.20//NONSGML v1.0//EN
CALSCALE:GREGORIAN
METHOD:PUBLISH
X-WR-CALNAME:The Texas Pool
X-ORIGINAL-URL:https://texaspool.org
X-WR-CALDESC:Events for The Texas Pool
REFRESH-INTERVAL;VALUE=DURATION:PT1H
X-Robots-Tag:noindex
X-PUBLISHED-TTL:PT1H
BEGIN:VTIMEZONE
TZID:America/Chicago
BEGIN:DAYLIGHT
TZOFFSETFROM:-0600
TZOFFSETTO:-0500
TZNAME:CDT
DTSTART:20250309T080000
END:DAYLIGHT
BEGIN:STANDARD
TZOFFSETFROM:-0500
TZOFFSETTO:-0600
TZNAME:CST
DTSTART:20251102T070000
END:STANDARD
BEGIN:DAYLIGHT
TZOFFSETFROM:-0600
TZOFFSETTO:-0500
TZNAME:CDT
DTSTART:20260308T080000
END:DAYLIGHT
BEGIN:STANDARD
TZOFFSETFROM:-0500
TZOFFSETTO:-0600
TZNAME:CST
DTSTART:20261101T070000
END:STANDARD
BEGIN:DAYLIGHT
TZOFFSETFROM:-0600
TZOFFSETTO:-0500
TZNAME:CDT
DTSTART:20270314T080000
END:DAYLIGHT
BEGIN:STANDARD
TZOFFSETFROM:-0500
TZOFFSETTO:-0600
TZNAME:CST
DTSTART:20271107T070000
END:STANDARD
END:VTIMEZONE
BEGIN:VEVENT
DTSTART;VALUE=DATE:20260713
DTEND;VALUE=DATE:20260719
DTSTAMP:20260422T143736
CREATED:20250521T033104Z
LAST-MODIFIED:20260313T032415Z
UID:8148-1783900800-1784419199@texaspool.org
SUMMARY:Junior Lifeguard Camps
DESCRIPTION:The Texas Pool’s Junior Lifeguard Camps are for children ages 8 to 15 interested in learning swim safety skills. Classes are held daily at various times from July 13-18. Campers have an opportunity to: \n\nLearn and practice real lifeguard skills\nMake lifelong friends while practicing team building\nExplore a great career that you can keep through high school\, college\, and beyond\nBegin CPR training and first responder protocol\n\nFor more information about classes and registration\, visit https://texaspool.org/junior-lifeguard-camps/.
URL:https://texaspool.org/event/junior-lifeguard-camps/
LOCATION:The Texas Pool\, 901 Springbrook Drive\, Plano\, Texas\, 75075\, United States
CATEGORIES:Classes,Texas Pool Events
ATTACH;FMTTYPE=image/jpeg:https://texaspool.org/wp-content/uploads/2025/03/Junior-Lifeguard-Camp-12-scaled.jpg
ORGANIZER;CN="The Texas Pool":MAILTO:info@texaspool.org
END:VEVENT
END:VCALENDAR