BEGIN:VCALENDAR
VERSION:2.0
PRODID:-//The Texas Pool - ECPv6.15.20//NONSGML v1.0//EN
CALSCALE:GREGORIAN
METHOD:PUBLISH
X-WR-CALNAME:The Texas Pool
X-ORIGINAL-URL:https://texaspool.org
X-WR-CALDESC:Events for The Texas Pool
REFRESH-INTERVAL;VALUE=DURATION:PT1H
X-Robots-Tag:noindex
X-PUBLISHED-TTL:PT1H
BEGIN:VTIMEZONE
TZID:America/Chicago
BEGIN:DAYLIGHT
TZOFFSETFROM:-0600
TZOFFSETTO:-0500
TZNAME:CDT
DTSTART:20250309T080000
END:DAYLIGHT
BEGIN:STANDARD
TZOFFSETFROM:-0500
TZOFFSETTO:-0600
TZNAME:CST
DTSTART:20251102T070000
END:STANDARD
BEGIN:DAYLIGHT
TZOFFSETFROM:-0600
TZOFFSETTO:-0500
TZNAME:CDT
DTSTART:20260308T080000
END:DAYLIGHT
BEGIN:STANDARD
TZOFFSETFROM:-0500
TZOFFSETTO:-0600
TZNAME:CST
DTSTART:20261101T070000
END:STANDARD
BEGIN:DAYLIGHT
TZOFFSETFROM:-0600
TZOFFSETTO:-0500
TZNAME:CDT
DTSTART:20270314T080000
END:DAYLIGHT
BEGIN:STANDARD
TZOFFSETFROM:-0500
TZOFFSETTO:-0600
TZNAME:CST
DTSTART:20271107T070000
END:STANDARD
END:VTIMEZONE
BEGIN:VEVENT
DTSTART;VALUE=DATE:20260811
DTEND;VALUE=DATE:20260812
DTSTAMP:20260422T175142
CREATED:20260412T005648Z
LAST-MODIFIED:20260412T032609Z
UID:8240-1786406400-1786492799@texaspool.org
SUMMARY:Back-to-School Hours Begin
DESCRIPTION:The Texas Pool’s Back-to-School hours are in effect from Aug. 11\, 2025 through Labor Day. \nMonday: Closed\nTuesday: Closed\nWednesday: Closed\nThursday: Closed\nFriday: 5:00 pm – 8:00 pm\nSaturday: 1:00 pm – 6:00 pm\nSunday: 1:00 pm – 6:00 pm
URL:https://texaspool.org/event/back-to-school-hours-begin/
LOCATION:The Texas Pool\, 901 Springbrook Drive\, Plano\, Texas\, 75075\, United States
ATTACH;FMTTYPE=image/jpeg:https://texaspool.org/wp-content/uploads/2025/01/DJI_0274-scaled.jpg
ORGANIZER;CN="The Texas Pool":MAILTO:info@texaspool.org
END:VEVENT
END:VCALENDAR