BEGIN:VCALENDAR
VERSION:2.0
PRODID:-//The Texas Pool - ECPv6.15.20//NONSGML v1.0//EN
CALSCALE:GREGORIAN
METHOD:PUBLISH
X-ORIGINAL-URL:https://texaspool.org
X-WR-CALDESC:Events for The Texas Pool
REFRESH-INTERVAL;VALUE=DURATION:PT1H
X-Robots-Tag:noindex
X-PUBLISHED-TTL:PT1H
BEGIN:VTIMEZONE
TZID:America/Chicago
BEGIN:DAYLIGHT
TZOFFSETFROM:-0600
TZOFFSETTO:-0500
TZNAME:CDT
DTSTART:20250309T080000
END:DAYLIGHT
BEGIN:STANDARD
TZOFFSETFROM:-0500
TZOFFSETTO:-0600
TZNAME:CST
DTSTART:20251102T070000
END:STANDARD
BEGIN:DAYLIGHT
TZOFFSETFROM:-0600
TZOFFSETTO:-0500
TZNAME:CDT
DTSTART:20260308T080000
END:DAYLIGHT
BEGIN:STANDARD
TZOFFSETFROM:-0500
TZOFFSETTO:-0600
TZNAME:CST
DTSTART:20261101T070000
END:STANDARD
BEGIN:DAYLIGHT
TZOFFSETFROM:-0600
TZOFFSETTO:-0500
TZNAME:CDT
DTSTART:20270314T080000
END:DAYLIGHT
BEGIN:STANDARD
TZOFFSETFROM:-0500
TZOFFSETTO:-0600
TZNAME:CST
DTSTART:20271107T070000
END:STANDARD
BEGIN:DAYLIGHT
TZOFFSETFROM:-0600
TZOFFSETTO:-0500
TZNAME:CDT
DTSTART:20280312T080000
END:DAYLIGHT
BEGIN:STANDARD
TZOFFSETFROM:-0500
TZOFFSETTO:-0600
TZNAME:CST
DTSTART:20281105T070000
END:STANDARD
END:VTIMEZONE
BEGIN:VEVENT
DTSTART;TZID=America/Chicago:20260809T183000
DTEND;TZID=America/Chicago:20260809T203000
DTSTAMP:20260422T180131
CREATED:20260412T023830Z
LAST-MODIFIED:20260412T023830Z
UID:9036-1786300200-1786307400@texaspool.org
SUMMARY:Mermaid Tea Party
DESCRIPTION:Calling all mermaids and mermen\, pirates\, and landlubbers to spill some Texas-sized tea at The Texas Pool’s annual Mermaid Tea Party. \nBring your fins and your merlings to join Shellebrations for an interactive treasure hunt around Texas! \nShop the Shellebrations Pop Up Grotto for mermazing one-of-a-kind merch\, enter goody giveaways\, and groove to the sounds of Charles Duhon on the steel drums. \nDeep end reserved for merfolk free swim during the last hour. Dive in and live the mermaid dream!
URL:https://texaspool.org/event/mermaid-tea-party-2/
LOCATION:Texas
CATEGORIES:Texas Pool Events
END:VEVENT
BEGIN:VEVENT
DTSTART;TZID=America/Chicago:20260907T120000
DTEND;TZID=America/Chicago:20260907T180000
DTSTAMP:20260422T180131
CREATED:20260412T002937Z
LAST-MODIFIED:20260412T033616Z
UID:8248-1788782400-1788804000@texaspool.org
SUMMARY:Labor Day Party
DESCRIPTION:Celebrate the the final day of the 2026 swim season with a Labor Day party at the Texas Pool from noon to 6 p.m. \n\n\n\nPlay traditional pool games. Enter the cannonball contest for prizes. Snack bar\, BBQ grills\, and picnic areas. \nShellebrations will onsite with the Pop-Up Grotto. Don’t miss this chance to score mer-mazing mer-chandise before it swims away. \nFood\, fun\, and one last swim across Texas!
URL:https://texaspool.org/event/labor-day-party/
LOCATION:The Texas Pool\, 901 Springbrook Drive\, Plano\, Texas\, 75075\, United States
CATEGORIES:Holidays,Texas Pool Events
ATTACH;FMTTYPE=image/jpeg:https://texaspool.org/wp-content/uploads/2025/03/2024-lifeguards-5.jpg
ORGANIZER;CN="The Texas Pool":MAILTO:info@texaspool.org
END:VEVENT
BEGIN:VEVENT
DTSTART;TZID=America/Chicago:20260912T090000
DTEND;TZID=America/Chicago:20260912T110000
DTSTAMP:20260422T180131
CREATED:20260412T031726Z
LAST-MODIFIED:20260412T031726Z
UID:9056-1789203600-1789210800@texaspool.org
SUMMARY:Texas Pool Foundation Board Team Meeting
DESCRIPTION:Meetings are usually held every second Saturday of the month at 9 a.m. at the Texas Pool. All board members and volunteers are encouraged to attend.
URL:https://texaspool.org/event/texas-pool-foundation-board-team-meeting-5/
LOCATION:The Texas Pool\, 901 Springbrook Drive\, Plano\, Texas\, 75075\, United States
CATEGORIES:Texas Pool Events
ATTACH;FMTTYPE=image/jpeg:https://texaspool.org/wp-content/uploads/2025/02/Polar-Plunge-volunteers.jpg
ORGANIZER;CN="The Texas Pool":MAILTO:info@texaspool.org
END:VEVENT
BEGIN:VEVENT
DTSTART;VALUE=DATE:20260917
DTEND;VALUE=DATE:20260918
DTSTAMP:20260422T180131
CREATED:20250522T020124Z
LAST-MODIFIED:20260412T033202Z
UID:8288-1789603200-1789689599@texaspool.org
SUMMARY:North Texas Giving Day
DESCRIPTION:Support the Texas Pool Foundation this year on North Texas Giving Day. \nThe Texas Pool is listed on the National Register of Historic Places and is a City of Plano Heritage Landmark. It is the very first Texas-shaped pool in the world. \nThe Texas Pool Foundation is dedicated to the preservation of the Texas Pool landmark\, and to community outreach. \nThe Texas Pool has a Little Free Library and Little Free Pantry. It is a Certified Wildlife Habitat and a Monarch Way Station with an award-winning butterfly garden. \nThe Texas Pool supports the arts with a mural project\, live music\, and mermaid performances during the summer season. \nMaintained\, managed\, and marketed almost exclusively by volunteers\, The Texas Pool encourages community involvement and provides for historic preservation\, swim safety\, and lifeguard education. \nWe offer free swimming opportunities for underserved populations of Dallas and Collin County and accept community service and bartering for memberships. \nWe want everyone to have an opportunity to #SwimAcrossTexas!
URL:https://texaspool.org/event/north-texas-giving-day/
LOCATION:Texas
CATEGORIES:Texas Pool Events
ATTACH;FMTTYPE=image/png:https://texaspool.org/wp-content/uploads/2025/05/Copy-of-North-Texas-Giving-Day_Postcard-5x7-1.png
END:VEVENT
BEGIN:VEVENT
DTSTART;TZID=America/Chicago:20260926T110000
DTEND;TZID=America/Chicago:20260926T130000
DTSTAMP:20260422T180131
CREATED:20260412T034331Z
LAST-MODIFIED:20260412T034331Z
UID:9077-1790420400-1790427600@texaspool.org
SUMMARY:Paws Party and Pooch Plunge
DESCRIPTION:Swim with the dogs and enjoy treats\, canine sponsors\, and special shopping ops. It’s a dog’s life at The Texas Pool.
URL:https://texaspool.org/event/paws-party-and-pooch-plunge/
LOCATION:The Texas Pool\, 901 Springbrook Drive\, Plano\, Texas\, 75075\, United States
CATEGORIES:Texas Pool Events
ATTACH;FMTTYPE=image/jpeg:https://texaspool.org/wp-content/uploads/2026/04/Dog-Party-e1775965346348.jpg
ORGANIZER;CN="The Texas Pool":MAILTO:info@texaspool.org
END:VEVENT
BEGIN:VEVENT
DTSTART;TZID=America/Chicago:20261010T090000
DTEND;TZID=America/Chicago:20261010T110000
DTSTAMP:20260422T180131
CREATED:20260412T031744Z
LAST-MODIFIED:20260412T031744Z
UID:9058-1791622800-1791630000@texaspool.org
SUMMARY:Texas Pool Foundation Board Team Meeting
DESCRIPTION:Meetings are usually held every second Saturday of the month at 9 a.m. at the Texas Pool. All board members and volunteers are encouraged to attend.
URL:https://texaspool.org/event/texas-pool-foundation-board-team-meeting-6/
LOCATION:The Texas Pool\, 901 Springbrook Drive\, Plano\, Texas\, 75075\, United States
CATEGORIES:Texas Pool Events
ATTACH;FMTTYPE=image/jpeg:https://texaspool.org/wp-content/uploads/2025/02/Polar-Plunge-volunteers.jpg
ORGANIZER;CN="The Texas Pool":MAILTO:info@texaspool.org
END:VEVENT
BEGIN:VEVENT
DTSTART;TZID=America/Chicago:20261114T090000
DTEND;TZID=America/Chicago:20261114T110000
DTSTAMP:20260422T180131
CREATED:20260412T031804Z
LAST-MODIFIED:20260412T031804Z
UID:9060-1794646800-1794654000@texaspool.org
SUMMARY:Texas Pool Foundation Board Team Meeting
DESCRIPTION:Meetings are usually held every second Saturday of the month at 9 a.m. at the Texas Pool. All board members and volunteers are encouraged to attend.
URL:https://texaspool.org/event/texas-pool-foundation-board-team-meeting-7/
LOCATION:The Texas Pool\, 901 Springbrook Drive\, Plano\, Texas\, 75075\, United States
CATEGORIES:Texas Pool Events
ATTACH;FMTTYPE=image/jpeg:https://texaspool.org/wp-content/uploads/2025/02/Polar-Plunge-volunteers.jpg
ORGANIZER;CN="The Texas Pool":MAILTO:info@texaspool.org
END:VEVENT
BEGIN:VEVENT
DTSTART;TZID=America/Chicago:20261212T090000
DTEND;TZID=America/Chicago:20261212T110000
DTSTAMP:20260422T180131
CREATED:20260412T031825Z
LAST-MODIFIED:20260412T031825Z
UID:9062-1797066000-1797073200@texaspool.org
SUMMARY:Texas Pool Foundation Board Team Meeting
DESCRIPTION:Meetings are usually held every second Saturday of the month at 9 a.m. at the Texas Pool. All board members and volunteers are encouraged to attend.
URL:https://texaspool.org/event/texas-pool-foundation-board-team-meeting-12/
LOCATION:The Texas Pool\, 901 Springbrook Drive\, Plano\, Texas\, 75075\, United States
CATEGORIES:Texas Pool Events
ATTACH;FMTTYPE=image/jpeg:https://texaspool.org/wp-content/uploads/2025/02/Polar-Plunge-volunteers.jpg
ORGANIZER;CN="The Texas Pool":MAILTO:info@texaspool.org
END:VEVENT
BEGIN:VEVENT
DTSTART;TZID=America/Chicago:20270109T090000
DTEND;TZID=America/Chicago:20270109T110000
DTSTAMP:20260422T180131
CREATED:20260412T031843Z
LAST-MODIFIED:20260412T031843Z
UID:9064-1799485200-1799492400@texaspool.org
SUMMARY:Texas Pool Foundation Board Team Meeting
DESCRIPTION:Meetings are usually held every second Saturday of the month at 9 a.m. at the Texas Pool. All board members and volunteers are encouraged to attend.
URL:https://texaspool.org/event/texas-pool-foundation-board-team-meeting-13/
LOCATION:The Texas Pool\, 901 Springbrook Drive\, Plano\, Texas\, 75075\, United States
CATEGORIES:Texas Pool Events
ATTACH;FMTTYPE=image/jpeg:https://texaspool.org/wp-content/uploads/2025/02/Polar-Plunge-volunteers.jpg
ORGANIZER;CN="The Texas Pool":MAILTO:info@texaspool.org
END:VEVENT
BEGIN:VEVENT
DTSTART;TZID=America/Chicago:20270213T090000
DTEND;TZID=America/Chicago:20270213T110000
DTSTAMP:20260422T180131
CREATED:20260412T031859Z
LAST-MODIFIED:20260412T031859Z
UID:9066-1802509200-1802516400@texaspool.org
SUMMARY:Texas Pool Foundation Board Team Meeting
DESCRIPTION:Meetings are usually held every second Saturday of the month at 9 a.m. at the Texas Pool. All board members and volunteers are encouraged to attend.
URL:https://texaspool.org/event/texas-pool-foundation-board-team-meeting-14/
LOCATION:The Texas Pool\, 901 Springbrook Drive\, Plano\, Texas\, 75075\, United States
CATEGORIES:Texas Pool Events
ATTACH;FMTTYPE=image/jpeg:https://texaspool.org/wp-content/uploads/2025/02/Polar-Plunge-volunteers.jpg
ORGANIZER;CN="The Texas Pool":MAILTO:info@texaspool.org
END:VEVENT
BEGIN:VEVENT
DTSTART;TZID=America/Chicago:20270313T090000
DTEND;TZID=America/Chicago:20270313T110000
DTSTAMP:20260422T180131
CREATED:20260412T031915Z
LAST-MODIFIED:20260412T031915Z
UID:9068-1804928400-1804935600@texaspool.org
SUMMARY:Texas Pool Foundation Board Team Meeting
DESCRIPTION:Meetings are usually held every second Saturday of the month at 9 a.m. at the Texas Pool. All board members and volunteers are encouraged to attend.
URL:https://texaspool.org/event/texas-pool-foundation-board-team-meeting-15/
LOCATION:The Texas Pool\, 901 Springbrook Drive\, Plano\, Texas\, 75075\, United States
CATEGORIES:Texas Pool Events
ATTACH;FMTTYPE=image/jpeg:https://texaspool.org/wp-content/uploads/2025/02/Polar-Plunge-volunteers.jpg
ORGANIZER;CN="The Texas Pool":MAILTO:info@texaspool.org
END:VEVENT
BEGIN:VEVENT
DTSTART;TZID=America/Chicago:20270410T090000
DTEND;TZID=America/Chicago:20270410T110000
DTSTAMP:20260422T180131
CREATED:20260412T031933Z
LAST-MODIFIED:20260412T031933Z
UID:9070-1807347600-1807354800@texaspool.org
SUMMARY:Texas Pool Foundation Board Team Meeting
DESCRIPTION:Meetings are usually held every second Saturday of the month at 9 a.m. at the Texas Pool. All board members and volunteers are encouraged to attend.
URL:https://texaspool.org/event/texas-pool-foundation-board-team-meeting-16/
LOCATION:The Texas Pool\, 901 Springbrook Drive\, Plano\, Texas\, 75075\, United States
CATEGORIES:Texas Pool Events
ATTACH;FMTTYPE=image/jpeg:https://texaspool.org/wp-content/uploads/2025/02/Polar-Plunge-volunteers.jpg
ORGANIZER;CN="The Texas Pool":MAILTO:info@texaspool.org
END:VEVENT
END:VCALENDAR