BEGIN:VCALENDAR
VERSION:2.0
PRODID:-//The Texas Pool - ECPv6.15.20//NONSGML v1.0//EN
CALSCALE:GREGORIAN
METHOD:PUBLISH
X-WR-CALNAME:The Texas Pool
X-ORIGINAL-URL:https://texaspool.org
X-WR-CALDESC:Events for The Texas Pool
REFRESH-INTERVAL;VALUE=DURATION:PT1H
X-Robots-Tag:noindex
X-PUBLISHED-TTL:PT1H
BEGIN:VTIMEZONE
TZID:America/Chicago
BEGIN:DAYLIGHT
TZOFFSETFROM:-0600
TZOFFSETTO:-0500
TZNAME:CDT
DTSTART:20250309T080000
END:DAYLIGHT
BEGIN:STANDARD
TZOFFSETFROM:-0500
TZOFFSETTO:-0600
TZNAME:CST
DTSTART:20251102T070000
END:STANDARD
BEGIN:DAYLIGHT
TZOFFSETFROM:-0600
TZOFFSETTO:-0500
TZNAME:CDT
DTSTART:20260308T080000
END:DAYLIGHT
BEGIN:STANDARD
TZOFFSETFROM:-0500
TZOFFSETTO:-0600
TZNAME:CST
DTSTART:20261101T070000
END:STANDARD
BEGIN:DAYLIGHT
TZOFFSETFROM:-0600
TZOFFSETTO:-0500
TZNAME:CDT
DTSTART:20270314T080000
END:DAYLIGHT
BEGIN:STANDARD
TZOFFSETFROM:-0500
TZOFFSETTO:-0600
TZNAME:CST
DTSTART:20271107T070000
END:STANDARD
END:VTIMEZONE
BEGIN:VEVENT
DTSTART;TZID=America/Chicago:20260525T120000
DTEND;TZID=America/Chicago:20260525T180000
DTSTAMP:20260422T110336
CREATED:20260412T000020Z
LAST-MODIFIED:20260412T024303Z
UID:7857-1779710400-1779732000@texaspool.org
SUMMARY:Memorial Day & National Moment of Remembrance
DESCRIPTION:Join the Texas Pool on Monday\, May 25 from noon to 6 p.m. for Memorial Day and a National Moment of Remembrance. It’s also opening day for the 2026 season! \nCelebrate freedom and honor America’s fallen heroes with a party at The Texas Pool. National Moment of Remembrance ceremony at 3 PM. \nEnjoy local performers\, snack bar\, picnic areas and BBQ grills\, with traditional pool games\, and a cannonball contest. \nShellebrations will be making a splash with fellow mermaids providing a sea of fun\, including temporary tattoos\, magical meet-and-greets with photo opportunities\, and a chance to watch real mermaids swim and play! \nSign aboard with a Texas Pool membership. Swim Across Texas with us this summer!
URL:https://texaspool.org/event/memorial-day-national-moment-of-remembrance/
LOCATION:The Texas Pool\, 901 Springbrook Drive\, Plano\, Texas\, 75075\, United States
CATEGORIES:Holidays,Texas Pool Events
ATTACH;FMTTYPE=image/jpeg:https://texaspool.org/wp-content/uploads/2025/02/Memorial-Day-2021-2.jpg
ORGANIZER;CN="The Texas Pool":MAILTO:info@texaspool.org
END:VEVENT
END:VCALENDAR