BEGIN:VCALENDAR
VERSION:2.0
PRODID:-//The Texas Pool - ECPv6.15.20//NONSGML v1.0//EN
CALSCALE:GREGORIAN
METHOD:PUBLISH
X-ORIGINAL-URL:https://texaspool.org
X-WR-CALDESC:Events for The Texas Pool
REFRESH-INTERVAL;VALUE=DURATION:PT1H
X-Robots-Tag:noindex
X-PUBLISHED-TTL:PT1H
BEGIN:VTIMEZONE
TZID:America/Chicago
BEGIN:DAYLIGHT
TZOFFSETFROM:-0600
TZOFFSETTO:-0500
TZNAME:CDT
DTSTART:20250309T080000
END:DAYLIGHT
BEGIN:STANDARD
TZOFFSETFROM:-0500
TZOFFSETTO:-0600
TZNAME:CST
DTSTART:20251102T070000
END:STANDARD
BEGIN:DAYLIGHT
TZOFFSETFROM:-0600
TZOFFSETTO:-0500
TZNAME:CDT
DTSTART:20260308T080000
END:DAYLIGHT
BEGIN:STANDARD
TZOFFSETFROM:-0500
TZOFFSETTO:-0600
TZNAME:CST
DTSTART:20261101T070000
END:STANDARD
BEGIN:DAYLIGHT
TZOFFSETFROM:-0600
TZOFFSETTO:-0500
TZNAME:CDT
DTSTART:20270314T080000
END:DAYLIGHT
BEGIN:STANDARD
TZOFFSETFROM:-0500
TZOFFSETTO:-0600
TZNAME:CST
DTSTART:20271107T070000
END:STANDARD
END:VTIMEZONE
BEGIN:VEVENT
DTSTART;TZID=America/Chicago:20260704T120000
DTEND;TZID=America/Chicago:20260704T180000
DTSTAMP:20260422T122205
CREATED:20260412T001411Z
LAST-MODIFIED:20260412T032223Z
UID:8143-1783166400-1783188000@texaspool.org
SUMMARY:Fourth of July Celebration
DESCRIPTION:The Texas Pool is open from noon to 6 p.m. on Saturday\, July 4 for Independence Day. \nCelebrate America’s Birthday with a party at the Texas Pool. BBQ grills\, picnic areas\, and snack bar. Traditional pool games\, and legendary All-American fun in the sun.
URL:https://texaspool.org/event/fourth-of-july-celebration/
LOCATION:The Texas Pool\, 901 Springbrook Drive\, Plano\, Texas\, 75075\, United States
CATEGORIES:Holidays,Texas Pool Events
ATTACH;FMTTYPE=image/jpeg:https://texaspool.org/wp-content/uploads/2025/05/Fourth-of-July.jpg
ORGANIZER;CN="The Texas Pool":MAILTO:info@texaspool.org
END:VEVENT
BEGIN:VEVENT
DTSTART;VALUE=DATE:20260706
DTEND;VALUE=DATE:20260714
DTSTAMP:20260422T122205
CREATED:20260412T002346Z
LAST-MODIFIED:20260412T032724Z
UID:8146-1783296000-1783987199@texaspool.org
SUMMARY:Shark Week
DESCRIPTION:Just when you thought it was safe to go into the water\, Shark Week returns! \nPlay Sharks & Minnows. Have your picture taken with the shark mural. Bring a fishy float and get a free snack bar icy pop. Giveaways. \nShellebrations will be making a splash on Sunday\, July 12\, with thrilling games like Feed the Shark and Walk the Plank! You might even fin-d some fabulous pirate treasure to take home. \nLive every week like it’s Shark Week at the Texas Pool this summer!
URL:https://texaspool.org/event/shark-week/
LOCATION:The Texas Pool\, 901 Springbrook Drive\, Plano\, Texas\, 75075\, United States
CATEGORIES:Texas Pool Events
ATTACH;FMTTYPE=image/jpeg:https://texaspool.org/wp-content/uploads/2025/01/Shark-3.jpg
ORGANIZER;CN="The Texas Pool":MAILTO:info@texaspool.org
END:VEVENT
BEGIN:VEVENT
DTSTART;TZID=America/Chicago:20260711T090000
DTEND;TZID=America/Chicago:20260711T110000
DTSTAMP:20260422T122205
CREATED:20260412T031652Z
LAST-MODIFIED:20260412T031652Z
UID:9052-1783760400-1783767600@texaspool.org
SUMMARY:Texas Pool Foundation Board Team Meeting
DESCRIPTION:Meetings are usually held every second Saturday of the month at 9 a.m. at the Texas Pool. All board members and volunteers are encouraged to attend.
URL:https://texaspool.org/event/texas-pool-foundation-board-team-meeting-3/
LOCATION:The Texas Pool\, 901 Springbrook Drive\, Plano\, Texas\, 75075\, United States
CATEGORIES:Texas Pool Events
ATTACH;FMTTYPE=image/jpeg:https://texaspool.org/wp-content/uploads/2025/02/Polar-Plunge-volunteers.jpg
ORGANIZER;CN="The Texas Pool":MAILTO:info@texaspool.org
END:VEVENT
BEGIN:VEVENT
DTSTART;VALUE=DATE:20260713
DTEND;VALUE=DATE:20260719
DTSTAMP:20260422T122205
CREATED:20250521T033104Z
LAST-MODIFIED:20260313T032415Z
UID:8148-1783900800-1784419199@texaspool.org
SUMMARY:Junior Lifeguard Camps
DESCRIPTION:The Texas Pool’s Junior Lifeguard Camps are for children ages 8 to 15 interested in learning swim safety skills. Classes are held daily at various times from July 13-18. Campers have an opportunity to: \n\nLearn and practice real lifeguard skills\nMake lifelong friends while practicing team building\nExplore a great career that you can keep through high school\, college\, and beyond\nBegin CPR training and first responder protocol\n\nFor more information about classes and registration\, visit https://texaspool.org/junior-lifeguard-camps/.
URL:https://texaspool.org/event/junior-lifeguard-camps/
LOCATION:The Texas Pool\, 901 Springbrook Drive\, Plano\, Texas\, 75075\, United States
CATEGORIES:Classes,Texas Pool Events
ATTACH;FMTTYPE=image/jpeg:https://texaspool.org/wp-content/uploads/2025/03/Junior-Lifeguard-Camp-12-scaled.jpg
ORGANIZER;CN="The Texas Pool":MAILTO:info@texaspool.org
END:VEVENT
BEGIN:VEVENT
DTSTART;TZID=America/Chicago:20260719T183000
DTEND;TZID=America/Chicago:20260719T213000
DTSTAMP:20260422T122205
CREATED:20260412T023255Z
LAST-MODIFIED:20260412T023937Z
UID:9034-1784485800-1784496600@texaspool.org
SUMMARY:Sunset Mermaid Soiree
DESCRIPTION:Join Shellebrations for the first annual Sunset Mermaid Soiree! \nBring your pirates and mer-friends for an adults-only night of mer-mazing community revelry. Groove to the sounds of Charles Duhon on the Steel Drums\, and dig into some swishy treats and treasures. \nBring your fanciest fins and be prepared to swim the night away under the Texas stars.
URL:https://texaspool.org/event/sunset-mermaid-soiree/
LOCATION:The Texas Pool\, 901 Springbrook Drive\, Plano\, Texas\, 75075\, United States
CATEGORIES:Texas Pool Events
ORGANIZER;CN="The Texas Pool":MAILTO:info@texaspool.org
END:VEVENT
BEGIN:VEVENT
DTSTART;TZID=America/Chicago:20260726T160000
DTEND;TZID=America/Chicago:20260726T180000
DTSTAMP:20260422T122205
CREATED:20260412T010043Z
LAST-MODIFIED:20260412T033426Z
UID:8242-1785081600-1785088800@texaspool.org
SUMMARY:Christmas in July
DESCRIPTION:Cool down with Christmas in July at The Texas Pool! \nEnjoy iced hot chocolate\, melted snowball game (water balloons)\, holiday crafts\, and festive treats. Bring a gift card for your favorite lifeguard’s stocking. Take a souvenir Santa photo and Swim Across Texas!
URL:https://texaspool.org/event/christmas-in-july/
LOCATION:The Texas Pool\, 901 Springbrook Drive\, Plano\, Texas\, 75075\, United States
CATEGORIES:Texas Pool Events
ATTACH;FMTTYPE=image/jpeg:https://texaspool.org/wp-content/uploads/2025/01/Texas-Pool-Christmas-2.jpg
ORGANIZER;CN="The Texas Pool":MAILTO:info@texaspool.org
END:VEVENT
END:VCALENDAR