BEGIN:VCALENDAR
VERSION:2.0
PRODID:-//The Texas Pool - ECPv6.15.20//NONSGML v1.0//EN
CALSCALE:GREGORIAN
METHOD:PUBLISH
X-ORIGINAL-URL:https://texaspool.org
X-WR-CALDESC:Events for The Texas Pool
REFRESH-INTERVAL;VALUE=DURATION:PT1H
X-Robots-Tag:noindex
X-PUBLISHED-TTL:PT1H
BEGIN:VTIMEZONE
TZID:America/Chicago
BEGIN:DAYLIGHT
TZOFFSETFROM:-0600
TZOFFSETTO:-0500
TZNAME:CDT
DTSTART:20250309T080000
END:DAYLIGHT
BEGIN:STANDARD
TZOFFSETFROM:-0500
TZOFFSETTO:-0600
TZNAME:CST
DTSTART:20251102T070000
END:STANDARD
BEGIN:DAYLIGHT
TZOFFSETFROM:-0600
TZOFFSETTO:-0500
TZNAME:CDT
DTSTART:20260308T080000
END:DAYLIGHT
BEGIN:STANDARD
TZOFFSETFROM:-0500
TZOFFSETTO:-0600
TZNAME:CST
DTSTART:20261101T070000
END:STANDARD
BEGIN:DAYLIGHT
TZOFFSETFROM:-0600
TZOFFSETTO:-0500
TZNAME:CDT
DTSTART:20270314T080000
END:DAYLIGHT
BEGIN:STANDARD
TZOFFSETFROM:-0500
TZOFFSETTO:-0600
TZNAME:CST
DTSTART:20271107T070000
END:STANDARD
END:VTIMEZONE
BEGIN:VEVENT
DTSTART;TZID=America/Chicago:20260606T170000
DTEND;TZID=America/Chicago:20260606T190000
DTSTAMP:20260422T110328
CREATED:20260412T005113Z
LAST-MODIFIED:20260412T024600Z
UID:8134-1780765200-1780772400@texaspool.org
SUMMARY:Happy Birthday Plano Party
DESCRIPTION:Join the Texas Pool on Saturday\, June 6 from 5-7 p.m. for a public celebration of Plano’s birthday. \nThe City of Plano was incorporated in 1873. Dive in for special birthday treats (while supplies last) and get a taste of Texas Pool history.
URL:https://texaspool.org/event/happy-birthday-plano-party/
LOCATION:The Texas Pool\, 901 Springbrook Drive\, Plano\, Texas\, 75075\, United States
CATEGORIES:Texas Pool Events
ATTACH;FMTTYPE=image/jpeg:https://texaspool.org/wp-content/uploads/2025/05/Love-Plano-scaled.jpg
ORGANIZER;CN="The Texas Pool":MAILTO:info@texaspool.org
END:VEVENT
BEGIN:VEVENT
DTSTART;TZID=America/Chicago:20260613T090000
DTEND;TZID=America/Chicago:20260613T110000
DTSTAMP:20260422T110328
CREATED:20260412T031636Z
LAST-MODIFIED:20260412T031636Z
UID:9050-1781341200-1781348400@texaspool.org
SUMMARY:Texas Pool Foundation Board Team Meeting
DESCRIPTION:Meetings are usually held every second Saturday of the month at 9 a.m. at the Texas Pool. All board members and volunteers are encouraged to attend.
URL:https://texaspool.org/event/texas-pool-foundation-board-team-meeting-2/
LOCATION:The Texas Pool\, 901 Springbrook Drive\, Plano\, Texas\, 75075\, United States
CATEGORIES:Texas Pool Events
ATTACH;FMTTYPE=image/jpeg:https://texaspool.org/wp-content/uploads/2025/02/Polar-Plunge-volunteers.jpg
ORGANIZER;CN="The Texas Pool":MAILTO:info@texaspool.org
END:VEVENT
BEGIN:VEVENT
DTSTART;TZID=America/Chicago:20260619T180000
DTEND;TZID=America/Chicago:20260619T200000
DTSTAMP:20260422T110328
CREATED:20260412T000319Z
LAST-MODIFIED:20260412T024739Z
UID:8138-1781892000-1781899200@texaspool.org
SUMMARY:Juneteenth Celebration
DESCRIPTION:Celebrate Juneteenth at the Texas Pool on Thursday\, June 19th from 6-8 p.m. \nCelebrate freedom with food\, friends\, and Texas history. BBQ grills and picnic areas\, snack bar\, coolers with food and non-alcoholic beverages are welcome. \nSwim Across Texas on Juneteenth!
URL:https://texaspool.org/event/juneteenth-celebration/
LOCATION:The Texas Pool\, 901 Springbrook Drive\, Plano\, Texas\, 75075\, United States
CATEGORIES:Holidays,Texas Pool Events
ATTACH;FMTTYPE=image/jpeg:https://texaspool.org/wp-content/uploads/2025/05/Juneteenth.jpg
ORGANIZER;CN="The Texas Pool":MAILTO:info@texaspool.org
END:VEVENT
BEGIN:VEVENT
DTSTART;TZID=America/Chicago:20260620T110000
DTEND;TZID=America/Chicago:20260620T130000
DTSTAMP:20260422T110328
CREATED:20260412T022722Z
LAST-MODIFIED:20260412T022722Z
UID:9032-1781953200-1781960400@texaspool.org
SUMMARY:Plano Moms: "100 Things to Do in Plano"  Books Signing
DESCRIPTION:More details coming soon
URL:https://texaspool.org/event/plano-moms-100-things-to-do-in-plano-books-signing/
LOCATION:The Texas Pool\, 901 Springbrook Drive\, Plano\, Texas\, 75075\, United States
CATEGORIES:Texas Pool Events
ORGANIZER;CN="The Texas Pool":MAILTO:info@texaspool.org
END:VEVENT
END:VCALENDAR