BEGIN:VCALENDAR
VERSION:2.0
PRODID:-//The Texas Pool - ECPv6.15.20//NONSGML v1.0//EN
CALSCALE:GREGORIAN
METHOD:PUBLISH
X-ORIGINAL-URL:https://texaspool.org
X-WR-CALDESC:Events for The Texas Pool
REFRESH-INTERVAL;VALUE=DURATION:PT1H
X-Robots-Tag:noindex
X-PUBLISHED-TTL:PT1H
BEGIN:VTIMEZONE
TZID:America/Chicago
BEGIN:DAYLIGHT
TZOFFSETFROM:-0600
TZOFFSETTO:-0500
TZNAME:CDT
DTSTART:20250309T080000
END:DAYLIGHT
BEGIN:STANDARD
TZOFFSETFROM:-0500
TZOFFSETTO:-0600
TZNAME:CST
DTSTART:20251102T070000
END:STANDARD
BEGIN:DAYLIGHT
TZOFFSETFROM:-0600
TZOFFSETTO:-0500
TZNAME:CDT
DTSTART:20260308T080000
END:DAYLIGHT
BEGIN:STANDARD
TZOFFSETFROM:-0500
TZOFFSETTO:-0600
TZNAME:CST
DTSTART:20261101T070000
END:STANDARD
BEGIN:DAYLIGHT
TZOFFSETFROM:-0600
TZOFFSETTO:-0500
TZNAME:CDT
DTSTART:20270314T080000
END:DAYLIGHT
BEGIN:STANDARD
TZOFFSETFROM:-0500
TZOFFSETTO:-0600
TZNAME:CST
DTSTART:20271107T070000
END:STANDARD
END:VTIMEZONE
BEGIN:VEVENT
DTSTART;TZID=America/Chicago:20260314T090000
DTEND;TZID=America/Chicago:20260314T110000
DTSTAMP:20260422T094021
CREATED:20250522T014144Z
LAST-MODIFIED:20250522T014144Z
UID:8273-1773478800-1773486000@texaspool.org
SUMMARY:Texas Pool Foundation Board Team Meeting
DESCRIPTION:Meetings are usually held every second Saturday of the month at 9 a.m. at the Texas Pool. All board members and volunteers are encouraged to attend.
URL:https://texaspool.org/event/texas-pool-foundation-board-team-meeting-10/
LOCATION:The Texas Pool\, 901 Springbrook Drive\, Plano\, Texas\, 75075\, United States
CATEGORIES:Texas Pool Events
ATTACH;FMTTYPE=image/jpeg:https://texaspool.org/wp-content/uploads/2025/02/Polar-Plunge-volunteers.jpg
ORGANIZER;CN="The Texas Pool":MAILTO:info@texaspool.org
END:VEVENT
BEGIN:VEVENT
DTSTART;TZID=America/Chicago:20260321T110000
DTEND;TZID=America/Chicago:20260321T180000
DTSTAMP:20260422T094021
CREATED:20250320T030207Z
LAST-MODIFIED:20260313T032322Z
UID:7896-1774090800-1774116000@texaspool.org
SUMMARY:Texas Forever Fest
DESCRIPTION:Find your Texas Pool fam at the Texas Forever Fest in Historic Downtown Plano! Come check us out on Saturday\, March 21 from 11 a.m. to 6 p.m. at Haggard Park. Secure your summertime membership\, and score some Texas Pool swag! \nAbout the Texas Forever Fest\n\n\n\n\n\n\n\n\n\n\n\n\n\n\n\n\n\n\nTexas Forever Fest is a celebration of the food\, art\, music\, and people that make the Lone Star State unforgettable. \nJoin us Saturday\, March 21\, 2026\, from 11:00 a.m. to 6:00 p.m. at Haggard Park in Plano for a free\, all-ages festival that’s as bold and welcoming as Texas itself. \nOur beautiful state is home to big skies and even bigger dreams and we’re throwing a party just as big as Texas. There’s no friendlier place than our home state\, and we’re rolling out the welcome mat for everyone. Enjoy a full day of live music\, entertainment\, interactive activities\, food\, drinks\, and vendors\, all inspired by Texas’ rich and diverse culture. \nCome celebrate Texas forever. \nEntertainment Schedule\nBattle of the Balladeers Winning – Jake Ryan -11:00a- 11:30am\nAngel White -12:00pm -1:00pm\nTejas Brothers 1:30pm-2:30pm\nCo-Headliner – The Wilder Blue – 3:00pm-4:00pm\nHeadliner- William Clark Green – 4:30pm -6:00pm \nAlcohol/Food & Drink\nFillmore Pub Beer Tent\nWhiskey Fest \nEvent Elements\n• Formerly Bearclaw\n• Kid Zone\n• Texas Gazebo Gallery\n• Vendor Market\n• Food Trucks\n• Texas Beer Garden\n• Texas Sized photo ops\nAnd more!
URL:https://texaspool.org/event/texas-forever-fest/
LOCATION:Haggard Park\, 901 E. 15th Street\, Plano\, TX\, United States
CATEGORIES:Texas Pool Events
END:VEVENT
END:VCALENDAR