BEGIN:VCALENDAR
VERSION:2.0
PRODID:-//The Texas Pool - ECPv6.15.20//NONSGML v1.0//EN
CALSCALE:GREGORIAN
METHOD:PUBLISH
X-ORIGINAL-URL:https://texaspool.org
X-WR-CALDESC:Events for The Texas Pool
REFRESH-INTERVAL;VALUE=DURATION:PT1H
X-Robots-Tag:noindex
X-PUBLISHED-TTL:PT1H
BEGIN:VTIMEZONE
TZID:America/Chicago
BEGIN:DAYLIGHT
TZOFFSETFROM:-0600
TZOFFSETTO:-0500
TZNAME:CDT
DTSTART:20250309T080000
END:DAYLIGHT
BEGIN:STANDARD
TZOFFSETFROM:-0500
TZOFFSETTO:-0600
TZNAME:CST
DTSTART:20251102T070000
END:STANDARD
BEGIN:DAYLIGHT
TZOFFSETFROM:-0600
TZOFFSETTO:-0500
TZNAME:CDT
DTSTART:20260308T080000
END:DAYLIGHT
BEGIN:STANDARD
TZOFFSETFROM:-0500
TZOFFSETTO:-0600
TZNAME:CST
DTSTART:20261101T070000
END:STANDARD
BEGIN:DAYLIGHT
TZOFFSETFROM:-0600
TZOFFSETTO:-0500
TZNAME:CDT
DTSTART:20270314T080000
END:DAYLIGHT
BEGIN:STANDARD
TZOFFSETFROM:-0500
TZOFFSETTO:-0600
TZNAME:CST
DTSTART:20271107T070000
END:STANDARD
END:VTIMEZONE
BEGIN:VEVENT
DTSTART;TZID=America/Chicago:20260907T120000
DTEND;TZID=America/Chicago:20260907T180000
DTSTAMP:20260422T170912
CREATED:20260412T002937Z
LAST-MODIFIED:20260412T033616Z
UID:8248-1788782400-1788804000@texaspool.org
SUMMARY:Labor Day Party
DESCRIPTION:Celebrate the the final day of the 2026 swim season with a Labor Day party at the Texas Pool from noon to 6 p.m. \n\n\n\nPlay traditional pool games. Enter the cannonball contest for prizes. Snack bar\, BBQ grills\, and picnic areas. \nShellebrations will onsite with the Pop-Up Grotto. Don’t miss this chance to score mer-mazing mer-chandise before it swims away. \nFood\, fun\, and one last swim across Texas!
URL:https://texaspool.org/event/labor-day-party/
LOCATION:The Texas Pool\, 901 Springbrook Drive\, Plano\, Texas\, 75075\, United States
CATEGORIES:Holidays,Texas Pool Events
ATTACH;FMTTYPE=image/jpeg:https://texaspool.org/wp-content/uploads/2025/03/2024-lifeguards-5.jpg
ORGANIZER;CN="The Texas Pool":MAILTO:info@texaspool.org
END:VEVENT
END:VCALENDAR